BEGIN:VCALENDAR
PRODID:-//AT Content Types//AT Event//EN
VERSION:1.0
BEGIN:VEVENT
DTSTART:20120211T140000Z
DTEND:20120211T190000Z
DCREATED:20120313T132044Z
UID:ATEvent-c0cfaa30-b4d7-45ba-81b3-e91a6e0024c1
SEQUENCE:0
LAST-MODIFIED:20120417T023052Z
SUMMARY:FENCE Fall Hunter Pace 2012
LOCATION:EQ Side FENCE/FENCE X
PRIORITY:3
TRANSP:0
END:VEVENT
END:VCALENDAR
