BEGIN:VCALENDAR
PRODID:-//AT Content Types//AT Event//EN
VERSION:1.0
BEGIN:VEVENT
DTSTART:20120720T040000Z
DTEND:20120722T210000Z
DCREATED:20120714T192309Z
UID:ATEvent-5d67345e-3aba-45ae-83d3-2e03e243a954
SEQUENCE:0
LAST-MODIFIED:20120714T192309Z
SUMMARY:Carolina Regional Pony Club
DESCRIPTION:Mega Rating
LOCATION:FENCE
PRIORITY:3
TRANSP:0
END:VEVENT
END:VCALENDAR
