BEGIN:VCALENDAR
PRODID:-//AT Content Types//AT Event//EN
VERSION:2.0
METHOD:PUBLISH
BEGIN:VEVENT
DTSTAMP:20260423T132606Z
CREATED:20110117T160937Z
UID:ATEvent-14e84f9819f959201a6d12557a7b0892
LAST-MODIFIED:20120317T011711Z
SUMMARY:April 30 - May 1: Dressage at FENCE
DTSTART:20110430T120000Z
DTEND:20110501T200000Z
LOCATION:Equestrian Center
CATEGORIES:Horse Show
CONTACT:828-859-9021\, horseshow@fence.org
URL:http://www.carolinadressage.com
CLASS:PUBLIC
END:VEVENT
END:VCALENDAR
