BEGIN:VCALENDAR
PRODID:-//AT Content Types//AT Event//EN
VERSION:1.0
BEGIN:VEVENT
DTSTART:20120323T120000Z
DTEND:20120325T213000Z
DCREATED:20120104T194452Z
UID:ATEvent-0c2c0ac35b4cadbd3985c967a48d8be5
SEQUENCE:0
LAST-MODIFIED:20120104T194452Z
SUMMARY:2012 USPC Dressage Rally
LOCATION:EQ Side FENCE
PRIORITY:3
TRANSP:0
END:VEVENT
END:VCALENDAR
