BEGIN:VCALENDAR
PRODID:-//AT Content Types//AT Event//EN
VERSION:2.0
METHOD:PUBLISH
BEGIN:VEVENT
DTSTAMP:20260423T132243Z
CREATED:20120105T173202Z
UID:ATEvent-33767294fbfb4a696ab28d89d40fc3f9
LAST-MODIFIED:20120105T173202Z
SUMMARY:2012 TR&HC 84th Charity Horse Show
DTSTART:20120606T120000Z
DTEND:20120610T213000Z
LOCATION:EQ Side FENCE
CATEGORIES:Horse Show
CONTACT:Laura Weickert\, 828-859-6109\, office@trhcevents.org
URL:http://www.blockhouseraces.com
CLASS:PUBLIC
END:VEVENT
END:VCALENDAR
