BEGIN:VCALENDAR
PRODID:-//AT Content Types//AT Event//EN
VERSION:1.0
BEGIN:VEVENT
DTSTART:20120712T110000Z
DTEND:20120715T210000Z
DCREATED:20120105T174053Z
UID:ATEvent-534944bc015faf69e2544a27a9d9d5f5
SEQUENCE:0
LAST-MODIFIED:20120417T022347Z
SUMMARY:2012 TR&HC 2nd Charity Horse Show III
LOCATION:EQ Side FENCE
PRIORITY:3
TRANSP:0
END:VEVENT
END:VCALENDAR
