BEGIN:VCALENDAR
PRODID:-//AT Content Types//AT Event//EN
VERSION:1.0
BEGIN:VEVENT
DTSTART:20120704T120000Z
DTEND:20120708T210000Z
DCREATED:20120105T173833Z
UID:ATEvent-29bacba710124ff19e09ef06a30d5885
SEQUENCE:0
LAST-MODIFIED:20120105T173833Z
SUMMARY:2012 TR&HC 10th Charity horse Show II
LOCATION:EQ Side FENCE
PRIORITY:3
TRANSP:0
END:VEVENT
END:VCALENDAR
