BEGIN:VCALENDAR
PRODID:-//AT Content Types//AT Event//EN
VERSION:2.0
METHOD:PUBLISH
BEGIN:VEVENT
DTSTAMP:20260423T191509Z
CREATED:20120105T174432Z
UID:ATEvent-09e094bbea9a0ebdaf8413abca0c0f01
LAST-MODIFIED:20120417T152757Z
SUMMARY:PSJ Show Jump (Back To School)
DTSTART:20120803T120000Z
DTEND:20120805T210000Z
LOCATION:Equestrian Side of FENCE
CATEGORIES:Horse Show
CONTACT:Cathy Cram\, 803-649-3505\, psjshows@aol.com
URL:http://www.psjshows.com
CLASS:PUBLIC
END:VEVENT
END:VCALENDAR
