BEGIN:VCALENDAR
PRODID:-//AT Content Types//AT Event//EN
VERSION:1.0
BEGIN:VEVENT
DTSTART:20120623T120000Z
DTEND:20120624T213000Z
DCREATED:20120105T173619Z
UID:ATEvent-8c31f313889a1421cb5c76aa500370b9
SEQUENCE:0
LAST-MODIFIED:20120105T173619Z
SUMMARY:2012 NCDCTA Dressage
LOCATION:EQ Side FENCE
PRIORITY:3
TRANSP:0
END:VEVENT
END:VCALENDAR
