BEGIN:VCALENDAR
PRODID:-//AT Content Types//AT Event//EN
VERSION:2.0
METHOD:PUBLISH
BEGIN:VEVENT
DTSTAMP:20260423T105825Z
CREATED:20120105T180242Z
UID:ATEvent-648d88359e4a884374ed235543e379de
LAST-MODIFIED:20121024T125656Z
SUMMARY:2012 FRC Fall Schooling Horse Trials "This event Cancelled"
DTSTART:20121104T130000Z
DTEND:20121104T220500Z
DESCRIPTION:Foothills Riding Club has cancelled this event for 2012.
LOCATION:EQ Side FENCE/FENCE X
CATEGORIES:Schooling Show, Trials
CONTACT:Margo Savage\, redgate@windstream.net
URL:http://www.foothillsridingclub.org
CLASS:PUBLIC
END:VEVENT
END:VCALENDAR
