BEGIN:VCALENDAR
PRODID:-//AT Content Types//AT Event//EN
VERSION:2.0
METHOD:PUBLISH
BEGIN:VEVENT
DTSTAMP:20260423T132126Z
CREATED:20120104T194248Z
UID:ATEvent-400b121234cd7b2a9f8dcd82fc65dd1b
LAST-MODIFIED:20120417T022927Z
SUMMARY:2012 FRC Dressage & Stadium
DTSTART:20120303T130000Z
DTEND:20120303T223000Z
LOCATION:EQ Side FENCE
CATEGORIES:Horse Show
CONTACT:Margo Savage\, redgate@windstream.net
URL:http://www.foothillsridingclub.org
CLASS:PUBLIC
END:VEVENT
END:VCALENDAR
