BEGIN:VCALENDAR
PRODID:-//AT Content Types//AT Event//EN
VERSION:2.0
METHOD:PUBLISH
BEGIN:VEVENT
DTSTAMP:20260423T105600Z
CREATED:20120104T190446Z
UID:ATEvent-9572c492c5598f42c9e2169f1bc38e66
LAST-MODIFIED:20120201T165610Z
SUMMARY:2012 FENCE Hunter Pace
DTSTART:20120212T150000Z
DTEND:20120212T190000Z
DESCRIPTION:Part of the Western Carolina Hunter Pace trail ride series
 \n\nDown load the FENCE/FETA release\, be ahead of the crowd at the pa
 ce.  Click below!
LOCATION:EQ Side FENCE
CATEGORIES:Horse Show
CONTACT:Ron Piccari\, 828-859-9021\, horseshow@fence.org
CLASS:PUBLIC
END:VEVENT
END:VCALENDAR
