BEGIN:VCALENDAR
PRODID:-//AT Content Types//AT Event//EN
VERSION:2.0
METHOD:PUBLISH
BEGIN:VEVENT
DTSTAMP:20260423T132117Z
CREATED:20120105T164651Z
UID:ATEvent-5f39a67fa2ba23f32c223791fee98933
LAST-MODIFIED:20120409T165032Z
SUMMARY:2012 Dressage At FENCE
DTSTART:20120413T160000Z
DTEND:20120415T213000Z
DESCRIPTION:Bloomin' Dressage\nManaged and promoted by Viewpoint Enter
 prises
LOCATION:EQ Side FENCE
CATEGORIES:Horse Show
CONTACT:Kay Whitlock\, 910-315-5959\, kaydg@fastmail.fm
CLASS:PUBLIC
END:VEVENT
END:VCALENDAR
