BEGIN:VCALENDAR
PRODID:-//AT Content Types//AT Event//EN
VERSION:2.0
METHOD:PUBLISH
BEGIN:VEVENT
DTSTAMP:20260423T115356Z
CREATED:20120105T172738Z
UID:ATEvent-ff48aa28a9b9b37551f4e134b240a3fd
LAST-MODIFIED:20120427T175656Z
SUMMARY:2012 Dog Agility Show
DTSTART:20120426T200000Z
DTEND:20120429T210000Z
LOCATION:Equestrian Side of FENCE
CATEGORIES:Dog Show
CONTACT:Jane Abbot\, 828.828.713.3278
URL:http://www.blueridgeagility.com
CLASS:PUBLIC
END:VEVENT
END:VCALENDAR
