BEGIN:VCALENDAR
PRODID:-//AT Content Types//AT Event//EN
VERSION:2.0
METHOD:PUBLISH
BEGIN:VEVENT
DTSTAMP:20260423T105959Z
CREATED:20120105T175316Z
UID:ATEvent-00d180f062b9060bb5cd7f855d633836
LAST-MODIFIED:20120611T180714Z
SUMMARY:"CANCELLED" 2012 Carolina Paint Horse Club
DTSTART:20120914T190000Z
DTEND:20120916T210000Z
DESCRIPTION:To promote the American Paint Horse Breed while providing 
 quality events for families and individuals in a safe and sportsman li
 ke atmosphere.
LOCATION:EQ Side FENCE
CATEGORIES:Horse Show
CONTACT:Tony Honeycut\, 704-792-2122\, exeasy_98@yahoo.com
URL:http://http://www.thecarolinapainthorseclub.com/
CLASS:PUBLIC
END:VEVENT
END:VCALENDAR
