BEGIN:VCALENDAR
PRODID:-//AT Content Types//AT Event//EN
VERSION:2.0
METHOD:PUBLISH
BEGIN:VEVENT
DTSTAMP:20260423T105847Z
CREATED:20120105T180026Z
UID:ATEvent-77189425c5d117120572330f51ef8e5a
LAST-MODIFIED:20121004T185055Z
SUMMARY:2012 Borderline Dressage (Oct Fest)
DTSTART:20121006T150000Z
DTEND:20121007T170000Z
DESCRIPTION:Ride times for Saturday & Sunday\, 10/6 & 10/7 Borderline 
 Dressage are posted on www.CarolinaDressage.com.  The show starts at 1
 1 AM on Saturday ending at 5 PM and starts at 9 AM on Sunday ending at
  1 PM.  Please stop by the show office for complimentary coffee"
LOCATION:EQ Side FENCE
CATEGORIES:Horse Show
CONTACT:Kay Whitlock\, 910-692-3504\, kaydg@hughes.net
CLASS:PUBLIC
END:VEVENT
END:VCALENDAR
