BEGIN:VCALENDAR
PRODID:-//AT Content Types//AT Event//EN
VERSION:1.0
BEGIN:VEVENT
DTSTART:20120823T200000Z
DTEND:20120826T210000Z
DCREATED:20120105T174729Z
UID:ATEvent-ef4c7a2431a72b17cd7d064711c5dd41
SEQUENCE:0
LAST-MODIFIED:20120417T153005Z
SUMMARY:2012 Blue Ridge Agility Dog Training
DESCRIPTION:Private Not open to the public just open to Blue Ridge Agi
 lity members!
LOCATION:EQ Side FENCE
PRIORITY:3
TRANSP:0
END:VEVENT
END:VCALENDAR
