BEGIN:VCALENDAR
PRODID:-//AT Content Types//AT Event//EN
VERSION:1.0
BEGIN:VEVENT
DTSTART:20120421T140000Z
DTEND:20120421T210000Z
DCREATED:20120105T165211Z
UID:ATEvent-d0057a178cb1daff5f0f92877c818186
SEQUENCE:0
LAST-MODIFIED:20120417T140353Z
SUMMARY:2012 66th Block House Steeplechase Race
DESCRIPTION:Tryon Riding & Hunt Club Event
LOCATION:EQ Side FENCE
PRIORITY:3
TRANSP:0
END:VEVENT
END:VCALENDAR
