BEGIN:VCALENDAR
PRODID:-//AT Content Types//AT Event//EN
VERSION:2.0
METHOD:PUBLISH
BEGIN:VEVENT
DTSTAMP:20260423T114718Z
CREATED:20220722T025409Z
UID:ATEvent-a3a7a3e4d98b43c0bb41a87622957d1a
LAST-MODIFIED:20220722T025409Z
SUMMARY:Yoga
DTSTART:20220722T141500Z
DTEND:20220722T151500Z
DESCRIPTION:FENCE is offering free yoga on Fridays at 10:15am in the g
 reat room. The yoga classes are taught by local instructor Rhonda Gile
 s. This yoga class is designed for all levels\, first time yoga studen
 ts welcome!
LOCATION:Fence center
CATEGORIES:Family
CONTACT:828-859-9021\, Info@fence.org
CLASS:PUBLIC
END:VEVENT
END:VCALENDAR
