BEGIN:VCALENDAR
PRODID:-//AT Content Types//AT Event//EN
VERSION:2.0
METHOD:PUBLISH
BEGIN:VEVENT
DTSTAMP:20260423T130757Z
CREATED:20260206T153022Z
UID:ATEvent-d672501e42f54a8884213b86b0aabb94
LAST-MODIFIED:20260206T153022Z
SUMMARY:Yoga
DTSTART:20260410T133000Z
DTEND:20260410T143000Z
DESCRIPTION:Free Yoga at FENCE!\nJoin us Fridays at 9:30am in the Grea
 t Room. All levels welcome. Bring a water bottle\, comfy clothes\, and
  a mat (extras available to borrow!).
CATEGORIES:Family
CLASS:PUBLIC
END:VEVENT
END:VCALENDAR
