BEGIN:VCALENDAR
PRODID:-//AT Content Types//AT Event//EN
VERSION:2.0
METHOD:PUBLISH
BEGIN:VEVENT
DTSTAMP:20260423T130804Z
CREATED:20260206T152953Z
UID:ATEvent-e7ae0c832dd8428b85f5b59413fcc92b
LAST-MODIFIED:20260206T152954Z
SUMMARY:Yoga
DTSTART:20260327T133000Z
DTEND:20260327T143000Z
DESCRIPTION:Free Yoga at FENCE!\nJoin us Fridays at 9:30am in the Grea
 t Room. All levels welcome. Bring a water bottle\, comfy clothes\, and
  a mat (extras available to borrow!).
CATEGORIES:Family
CLASS:PUBLIC
END:VEVENT
END:VCALENDAR
