BEGIN:VCALENDAR
PRODID:-//AT Content Types//AT Event//EN
VERSION:1.0
BEGIN:VEVENT
DTSTART:20260320T133000Z
DTEND:20260320T143000Z
DCREATED:20260206T152925Z
UID:ATEvent-a86de76bd8054dbd8ab3d8b6d455ccd9
SEQUENCE:0
LAST-MODIFIED:20260206T152925Z
SUMMARY:Yoga
DESCRIPTION:Free Yoga at FENCE!\nJoin us Fridays at 9:30am in the Grea
 t Room. All levels welcome. Bring a water bottle\, comfy clothes\, and
  a mat (extras available to borrow!).
PRIORITY:3
TRANSP:0
END:VEVENT
END:VCALENDAR
