BEGIN:VCALENDAR
PRODID:-//AT Content Types//AT Event//EN
VERSION:2.0
METHOD:PUBLISH
BEGIN:VEVENT
DTSTAMP:20260423T114732Z
CREATED:20260206T153134Z
UID:ATEvent-5256ff7080514b2daf508e17edbf8f0f
LAST-MODIFIED:20260206T153134Z
SUMMARY:Yoga
DTSTART:20260417T133000Z
DTEND:20260417T143000Z
DESCRIPTION:Free Yoga at FENCE!\nJoin us Fridays at 9:30am in the Grea
 t Room. All levels welcome. Bring a water bottle\, comfy clothes\, and
  a mat (extras available to borrow!).
CATEGORIES:Family
CLASS:PUBLIC
END:VEVENT
END:VCALENDAR
