BEGIN:VCALENDAR
PRODID:-//AT Content Types//AT Event//EN
VERSION:1.0
BEGIN:VEVENT
DTSTART:20250607T120000Z
DTEND:20250608T210000Z
DCREATED:20241219T155302Z
UID:ATEvent-b82eb0cd749e4fd69238a9f7f5ce05ea
SEQUENCE:0
LAST-MODIFIED:20241219T155303Z
SUMMARY:Working Equitation
LOCATION:FENCE Equestrian
PRIORITY:3
TRANSP:0
END:VEVENT
END:VCALENDAR
