BEGIN:VCALENDAR
PRODID:-//AT Content Types//AT Event//EN
VERSION:2.0
METHOD:PUBLISH
BEGIN:VEVENT
DTSTAMP:20260425T205311Z
CREATED:20240105T132810Z
UID:ATEvent-f36adef382ac49eeb7e29082038deb9a
LAST-MODIFIED:20240105T132810Z
SUMMARY:Working Equitation of NC
DTSTART:20240608T120000Z
DTEND:20240609T210000Z
LOCATION:FENCE Equestrian Side
CATEGORIES:Horse Show
CLASS:PUBLIC
END:VEVENT
END:VCALENDAR
