BEGIN:VCALENDAR
PRODID:-//AT Content Types//AT Event//EN
VERSION:1.0
BEGIN:VEVENT
DTSTART:20260627T120000Z
DTEND:20260628T210000Z
DCREATED:20251217T180814Z
UID:ATEvent-1ab1b2cb0a29487b97123dcc7553fccc
SEQUENCE:0
LAST-MODIFIED:20251217T180815Z
SUMMARY:Working Equitation NC
PRIORITY:3
TRANSP:0
END:VEVENT
END:VCALENDAR
