BEGIN:VCALENDAR
PRODID:-//AT Content Types//AT Event//EN
VERSION:2.0
METHOD:PUBLISH
BEGIN:VEVENT
DTSTAMP:20260423T131058Z
CREATED:20190112T150458Z
UID:ATEvent-8bc07f5dd2ed42d19930120446cc76a6
LAST-MODIFIED:20190112T150546Z
SUMMARY:Woods in the winter
DTSTART:20190202T153000Z
DTEND:20190202T170000Z
DESCRIPTION:Join Naturalist\, Tim Lee at the FENCE center for a educat
 ional program followed by an optional walk around the FENCE property.
LOCATION:FENCE center
CATEGORIES:Nature Program
CONTACT:828-859-9021\, info@fence.org
CLASS:PUBLIC
END:VEVENT
END:VCALENDAR
