BEGIN:VCALENDAR
PRODID:-//AT Content Types//AT Event//EN
VERSION:2.0
METHOD:PUBLISH
BEGIN:VEVENT
DTSTAMP:20260423T062939Z
CREATED:20151110T202342Z
UID:ATEvent-f735e2b1-70aa-4f9d-89fc-342279862607
LAST-MODIFIED:20151204T130224Z
SUMMARY:Woods in the Winter Talk with Tim Lee
DTSTART:20160130T190000Z
DTEND:20160130T210000Z
DESCRIPTION:Join us in the great room for an interesting talk with loc
 al naturalist Tim Lee about the winter in the woods. Learn about the d
 ifferent creatures and plants that call the woods their home and how t
 hey are adapted to survive the cold winters.
LOCATION:FENCE Center
CATEGORIES:Family
CONTACT:Tracie Hanson\, 828-859-9021\, info@fence.org
CLASS:PUBLIC
END:VEVENT
END:VCALENDAR
