BEGIN:VCALENDAR
PRODID:-//AT Content Types//AT Event//EN
VERSION:2.0
METHOD:PUBLISH
BEGIN:VEVENT
DTSTAMP:20260423T131018Z
CREATED:20170105T171444Z
UID:ATEvent-1123fe49bd19444a92b06507df513d6a
LAST-MODIFIED:20170126T185202Z
SUMMARY:Winter Tree Hike with Tim Lee
DTSTART:20170314T140000Z
DTEND:20170314T160000Z
LOCATION:FENCE Center
CATEGORIES:Nature Program
CONTACT:Tracie Hanson\, 8288599021\, info@fence.org
CLASS:PUBLIC
END:VEVENT
END:VCALENDAR
