BEGIN:VCALENDAR
PRODID:-//AT Content Types//AT Event//EN
VERSION:2.0
METHOD:PUBLISH
BEGIN:VEVENT
DTSTAMP:20260423T141935Z
CREATED:20200114T012726Z
UID:ATEvent-d3c7aede71a2413d809bb6cbfa3883a9
LAST-MODIFIED:20200213T115730Z
SUMMARY:Cancelled due to weather- Winter bird walk
DTSTART:20200213T133000Z
DTEND:20200213T150000Z
DESCRIPTION:Join a Ventures bird guide for this winter bird walk aroun
 d the FENCE property. This event is free and open to the public. Birde
 rs of all levels welcome.
LOCATION:FENCE center
CATEGORIES:Nature Program
CONTACT:828-859-9021\, info@fence.org
CLASS:PUBLIC
END:VEVENT
END:VCALENDAR
