BEGIN:VCALENDAR
PRODID:-//AT Content Types//AT Event//EN
VERSION:2.0
METHOD:PUBLISH
BEGIN:VEVENT
DTSTAMP:20260423T154515Z
CREATED:20230204T143951Z
UID:ATEvent-2b5f81afdeb5444b981b232bc70ff8a1
LAST-MODIFIED:20230204T143951Z
SUMMARY:Winter Bird walk
DTSTART:20230302T140000Z
DTEND:20230302T160000Z
DESCRIPTION:Join Kevin Burke\, of Ventures Birding Tours for a winter 
 bird walk around the FENCE property.
LOCATION:FENCE Center
CATEGORIES:Nature Program
CONTACT:828-859-9021\, info@fence.org
CLASS:PUBLIC
END:VEVENT
END:VCALENDAR
