BEGIN:VCALENDAR
PRODID:-//AT Content Types//AT Event//EN
VERSION:1.0
BEGIN:VEVENT
DTSTART:20220224T140000Z
DTEND:20220224T160000Z
DCREATED:20220201T164049Z
UID:ATEvent-f5c058d860f14e93ab0258e8bd55fa45
SEQUENCE:0
LAST-MODIFIED:20220222T193730Z
SUMMARY:FULL- Winter Bird Walk
DESCRIPTION:Registration is closed for this program. Join us for a gui
 ded Winter bird walk around the FENCE property. Please register in adv
 ance for this program.
LOCATION:FENCE Center
PRIORITY:3
TRANSP:0
END:VEVENT
END:VCALENDAR
