BEGIN:VCALENDAR
PRODID:-//AT Content Types//AT Event//EN
VERSION:1.0
BEGIN:VEVENT
DTSTART:20200305T133000Z
DTEND:20200305T150000Z
DCREATED:20200221T151508Z
UID:ATEvent-e651af24e53748ecb2a7c0cf89bfcecd
SEQUENCE:0
LAST-MODIFIED:20200305T015320Z
SUMMARY:Cancelled-Winter bird walk
DESCRIPTION:Rain is in the forecast again. We have decided to cancel t
 his walk due to the predicted weather. Sorry for any inconvenience!
LOCATION:FENCE Center
PRIORITY:3
TRANSP:0
END:VEVENT
END:VCALENDAR
