BEGIN:VCALENDAR
PRODID:-//AT Content Types//AT Event//EN
VERSION:1.0
BEGIN:VEVENT
DTSTART:20200220T133000Z
DTEND:20200220T150000Z
DCREATED:20200213T130901Z
UID:ATEvent-8f192e3ff89f49ef8117a570e9bc55a2
SEQUENCE:0
LAST-MODIFIED:20200219T202936Z
SUMMARY:Cancelled due to weather: Winter Bird Walk
DESCRIPTION:In the interest of everyone’s safety and with the predic
 ted inclement weather for tomorrow\, we are going to cancel this winte
 r bird walk again. We are sorry for any inconvenience but hope everyon
 e has a safe and happy Thursday!
LOCATION:FENCE Center
PRIORITY:3
TRANSP:0
END:VEVENT
END:VCALENDAR
