BEGIN:VCALENDAR
PRODID:-//AT Content Types//AT Event//EN
VERSION:2.0
METHOD:PUBLISH
BEGIN:VEVENT
DTSTAMP:20260423T115243Z
CREATED:20170105T165900Z
UID:ATEvent-34f1852611cc480fbcc878bf499e3ec6
LAST-MODIFIED:20170131T135956Z
SUMMARY:Winter Bird Hike with Simon Thompson
DTSTART:20170216T140000Z
DTEND:20170216T160000Z
DESCRIPTION:Our first guided walk of the year is open and free to the 
 community. FENCE welcomes everyone from first time birders to advanced
  birders to join Simon for his walk!
LOCATION:FENCE Center
CATEGORIES:Nature Program
CONTACT:Tracie Hanson\, 8288599021\, info@fence.org
CLASS:PUBLIC
END:VEVENT
END:VCALENDAR
