BEGIN:VCALENDAR
PRODID:-//AT Content Types//AT Event//EN
VERSION:1.0
BEGIN:VEVENT
DTSTART:20160303T140000Z
DTEND:20160303T160000Z
DCREATED:20160115T143849Z
UID:ATEvent-14fcd64b-fa61-4bcc-8205-a4ccc81b22b7
SEQUENCE:0
LAST-MODIFIED:20160118T202927Z
SUMMARY:Winter Bird Hike with Simon Thompson
DESCRIPTION:Winter may still be hanging on as we run our late winter/e
 arly spring birdwalk at FENCE. The first Northern Rough-winged and Tre
 e Swallows may be in\, as well as maybe an early Blue-gray Gnatcatcher
 .
PRIORITY:3
TRANSP:0
END:VEVENT
END:VCALENDAR
