BEGIN:VCALENDAR
PRODID:-//AT Content Types//AT Event//EN
VERSION:2.0
METHOD:PUBLISH
BEGIN:VEVENT
DTSTAMP:20260423T115014Z
CREATED:20190103T185316Z
UID:ATEvent-1abf6197789a418ea6455a34a1906c36
LAST-MODIFIED:20190112T151007Z
SUMMARY:Winter Bird Hike
DTSTART:20190207T140000Z
DTEND:20190207T160000Z
DESCRIPTION:Meet at the FENCE center for a leisurely walk around the F
 ENCE property on this winter bird hike.
LOCATION:FENCE Center
CATEGORIES:Nature Program
CONTACT:Tracie Hanson\, 8288599021\, info@fence.org
CLASS:PUBLIC
END:VEVENT
END:VCALENDAR
