BEGIN:VCALENDAR
PRODID:-//AT Content Types//AT Event//EN
VERSION:2.0
METHOD:PUBLISH
BEGIN:VEVENT
DTSTAMP:20260423T154752Z
CREATED:20180529T155918Z
UID:ATEvent-45eb0234f5614c949e30a968b72faea6
LAST-MODIFIED:20180529T155919Z
SUMMARY:Wine and Paint with Joan MacIntyre
DTSTART:20180623T140000Z
DTEND:20180623T163000Z
DESCRIPTION:Wine and Paint Class featuring local artist\, Joan MacInty
 re. Known most commonly for her artwork of horses\, Joan will be paint
 ing a portrait of the Famous Man o’ War.\n\nJoan will have one paint
 ing completed for the attendees to view but will also paint along with
  the class as she describes techniques and gives tips to complete thei
 r own painting. This class is appropriate for beginners as well as ind
 ividuals who have more experience with painting. The class will use ac
 rylic paint. All supplies are included in the $35 fee for the class. S
 pace is limited and pre-registration is required.
LOCATION:FENCE Center
CATEGORIES:Family
CONTACT:Tracie Hanson\, 8288599021\, info@fence.org
CLASS:PUBLIC
END:VEVENT
END:VCALENDAR
