BEGIN:VCALENDAR
PRODID:-//AT Content Types//AT Event//EN
VERSION:1.0
BEGIN:VEVENT
DTSTART:20160204T230000Z
DTEND:20160205T013000Z
DCREATED:20151204T130504Z
UID:ATEvent-174c0fec-f4b4-4803-9554-40108b5d30e0
SEQUENCE:0
LAST-MODIFIED:20151204T130504Z
SUMMARY:Wine and  Paint Night with Christine Mariotti
DESCRIPTION:Be sure not to miss out on this Valentine’s Day themed w
 ine and paint night.  All supplies for the evening will be included in
  the price. We will be working in Acrylic paint. Beginner painters alw
 ays welcome! Please reserve a seat in advance\, space is limited for t
 his event. Cost: $35
LOCATION:FENCE Classroom
PRIORITY:3
TRANSP:0
END:VEVENT
END:VCALENDAR
