BEGIN:VCALENDAR
PRODID:-//AT Content Types//AT Event//EN
VERSION:2.0
METHOD:PUBLISH
BEGIN:VEVENT
DTSTAMP:20260423T115244Z
CREATED:20160614T151510Z
UID:ATEvent-a31e05fd761543c284b6a49f66ad6849
LAST-MODIFIED:20160614T151513Z
SUMMARY:Wine and Paint Night
DTSTART:20160623T220000Z
DTEND:20160624T003000Z
DESCRIPTION:Come out to FENCE for a night of painting and drinking win
 e! Local artist Christine Mariotti will be present all night to demons
 trate a painting for the group and help guests with their paintings. B
 eginners as well as painters of all skill levels welcome for this even
 t. Join us for a fun event where you will be able to create a unique p
 iece of art to take home with you. The cost of the event is $35 per pe
 rson. This price includes all supplies for the evening. Pre-registrati
 on is required as space for the event is limited.
LOCATION:FENCE Center
CONTACT:Amy Schmitte\, 828-859-9021\, info@fence.org
CLASS:PUBLIC
END:VEVENT
END:VCALENDAR
