BEGIN:VCALENDAR
PRODID:-//AT Content Types//AT Event//EN
VERSION:2.0
METHOD:PUBLISH
BEGIN:VEVENT
DTSTAMP:20260423T154947Z
CREATED:20181112T193037Z
UID:ATEvent-643f9262df8744ed98e94641b0543a65
LAST-MODIFIED:20181112T193037Z
SUMMARY:Wine and Paint Class with local artist\, Jessica Vangsnes
DTSTART:20181213T230000Z
DTEND:20181214T013000Z
DESCRIPTION:A winter themed Wine and paint class will be offered. The 
 class fee is $35 which includes all supplies and drinks for the evenin
 g. Pre registration is required as class space is limited. To sign up 
 for this class call 828-859-9021.
LOCATION:FENCE Center
CATEGORIES:Family
CONTACT:Tracie Hanson\, 8288599021\, info@fence.org
CLASS:PUBLIC
END:VEVENT
END:VCALENDAR
