BEGIN:VCALENDAR
PRODID:-//AT Content Types//AT Event//EN
VERSION:2.0
METHOD:PUBLISH
BEGIN:VEVENT
DTSTAMP:20260423T131048Z
CREATED:20220910T222443Z
UID:ATEvent-2e82f765fdf94088b90331929ce14efc
LAST-MODIFIED:20220918T235823Z
SUMMARY:Wine and Paint
DTSTART:20221006T220000Z
DTEND:20221007T003000Z
DESCRIPTION:Space is limited\, please register in advance. $45 per per
 son includes all supplies. Call Fence at 828-859-9021 or email info@fe
 nce.org to register.
LOCATION:FENCE Center
CATEGORIES:Family
CONTACT:828-859-9021\, info@fence.org
CLASS:PUBLIC
END:VEVENT
END:VCALENDAR
