BEGIN:VCALENDAR
PRODID:-//AT Content Types//AT Event//EN
VERSION:1.0
BEGIN:VEVENT
DTSTART:20180303T160000Z
DTEND:20180303T170000Z
DCREATED:20180116T191709Z
UID:ATEvent-cda746b157a242c599344b8669c54dd4
SEQUENCE:0
LAST-MODIFIED:20180821T141530Z
SUMMARY:Wildflower Talk
DESCRIPTION:Local Naturalist Tim Lee will be hosting a talk about wild
 flowers in the FENCE Center.
LOCATION:FENCE Center
PRIORITY:3
TRANSP:0
END:VEVENT
END:VCALENDAR
