BEGIN:VCALENDAR
PRODID:-//AT Content Types//AT Event//EN
VERSION:1.0
BEGIN:VEVENT
DTSTART:20160305T190000Z
DTEND:20160305T210000Z
DCREATED:20151110T202515Z
UID:ATEvent-5c2874ab-9235-4220-a479-d0796b745d0b
SEQUENCE:0
LAST-MODIFIED:20151204T133341Z
SUMMARY:Wildflower talk with Tim Lee
DESCRIPTION:Join us in the great room for a talk on wildflowers with l
 ocal naturalist\, Tim Lee.\n\nThis well informed talk is made possible
  by the Kirby Endowment at the Polk County Community Foundation.
LOCATION:FENCE Center
PRIORITY:3
TRANSP:0
END:VEVENT
END:VCALENDAR
