BEGIN:VCALENDAR
PRODID:-//AT Content Types//AT Event//EN
VERSION:2.0
METHOD:PUBLISH
BEGIN:VEVENT
DTSTAMP:20260423T141836Z
CREATED:20190112T151355Z
UID:ATEvent-8aee39be945f401893f114a9733c1d58
LAST-MODIFIED:20190112T151356Z
SUMMARY:Wildflower program
DTSTART:20190309T160000Z
DTEND:20190309T170000Z
DESCRIPTION:Join Naturalist\, Tim Lee in the great room for an educati
 onal presentation on Wildflowers of the Carolinas.
LOCATION:FENCE center
CATEGORIES:Nature Program
CONTACT:828-859-9021\, info@fence.org
CLASS:PUBLIC
END:VEVENT
END:VCALENDAR
