BEGIN:VCALENDAR
PRODID:-//AT Content Types//AT Event//EN
VERSION:2.0
METHOD:PUBLISH
BEGIN:VEVENT
DTSTAMP:20260423T105226Z
CREATED:20180119T215946Z
UID:ATEvent-b539b637a0b64f3eba43b5cdf581d39e
LAST-MODIFIED:20180821T143921Z
SUMMARY:Wildflower Hike
DTSTART:20180417T130000Z
DTEND:20180417T143000Z
DESCRIPTION:Local Naturalist Carlton Burke will be leading a hike thro
 ugh the trails at FENCE on the search for spring ephemerals and other 
 wildflowers. Wear comfortable walking shoes and come dressed for the w
 eather. No registration required. Meet at the FENCE Center.
LOCATION:FENCE Center
CATEGORIES:Nature Program
CONTACT:Tracie Hanson\, 828-859-9021\, info@fence.org
CLASS:PUBLIC
END:VEVENT
END:VCALENDAR
