BEGIN:VCALENDAR
PRODID:-//AT Content Types//AT Event//EN
VERSION:1.0
BEGIN:VEVENT
DTSTART:20170418T130000Z
DTEND:20170418T150000Z
DCREATED:20170105T172617Z
UID:ATEvent-ab3979987537409e97f1417be6b68efa
SEQUENCE:0
LAST-MODIFIED:20170411T201709Z
SUMMARY:Wildflower Hike with Carlton Burke
DESCRIPTION:Join naturalist Carlton Burke for a leisurely hour-long st
 roll on the FENCE grounds to look for early spring wildflowers in bloo
 m. This event is free and open to the public. \nThank you to the Kirby
  Endowment at the Polk County Community Foundation for making this eve
 nt possible.
LOCATION:FENCE Center
PRIORITY:3
TRANSP:0
END:VEVENT
END:VCALENDAR
