BEGIN:VCALENDAR
PRODID:-//AT Content Types//AT Event//EN
VERSION:1.0
BEGIN:VEVENT
DTSTART:20180224T190000Z
DTEND:20180224T203000Z
DCREATED:20180116T191502Z
UID:ATEvent-7388be5423c54a7baf92b0af29b3ee36
SEQUENCE:0
LAST-MODIFIED:20180821T141246Z
SUMMARY:Wild for Life Presentation
DESCRIPTION:Join us in the FENCE Great Room for an exciting live anima
 l presentation from Wild for Life!
LOCATION:FENCE Center
PRIORITY:3
TRANSP:0
END:VEVENT
END:VCALENDAR
