BEGIN:VCALENDAR
PRODID:-//AT Content Types//AT Event//EN
VERSION:1.0
BEGIN:VEVENT
DTSTART:20250419T150000Z
DTEND:20250419T190000Z
DCREATED:20250212T150135Z
UID:ATEvent-f504ac1acb604d61ad88beae59592ce9
SEQUENCE:0
LAST-MODIFIED:20250212T150135Z
SUMMARY:Wheels for Whiskers
LOCATION:FENCE Center
PRIORITY:3
TRANSP:0
END:VEVENT
END:VCALENDAR
