BEGIN:VCALENDAR
PRODID:-//AT Content Types//AT Event//EN
VERSION:1.0
BEGIN:VEVENT
DTSTART:20250419T150000Z
DTEND:20250419T190000Z
DCREATED:20250212T145856Z
UID:ATEvent-d9667ac0b9f44c199e7d539c937a3b45
SEQUENCE:0
LAST-MODIFIED:20250212T145856Z
SUMMARY:Wheels for Whiskers Car Show
LOCATION:FENCE Center
PRIORITY:3
TRANSP:0
END:VEVENT
END:VCALENDAR
